BEGIN:VCALENDAR
VERSION:2.0
PRODID:-//CM Jewels - ECPv6.3.5//NONSGML v1.0//EN
CALSCALE:GREGORIAN
METHOD:PUBLISH
X-WR-CALNAME:CM Jewels
X-ORIGINAL-URL:https://cmjewels.be
X-WR-CALDESC:évènements pour CM Jewels
REFRESH-INTERVAL;VALUE=DURATION:PT1H
X-Robots-Tag:noindex
X-PUBLISHED-TTL:PT1H
BEGIN:VTIMEZONE
TZID:Europe/Brussels
BEGIN:DAYLIGHT
TZOFFSETFROM:+0100
TZOFFSETTO:+0200
TZNAME:CEST
DTSTART:20210328T010000
END:DAYLIGHT
BEGIN:STANDARD
TZOFFSETFROM:+0200
TZOFFSETTO:+0100
TZNAME:CET
DTSTART:20211031T010000
END:STANDARD
END:VTIMEZONE
BEGIN:VEVENT
DTSTART;VALUE=DATE:20211113
DTEND;VALUE=DATE:20211122
DTSTAMP:20260422T185246
CREATED:20201127T111502Z
LAST-MODIFIED:20201127T111628Z
UID:992-1636761600-1637539199@cmjewels.be
SUMMARY:ANTICA NAMUR
DESCRIPTION:
URL:https://cmjewels.be/event/antica-namur
LOCATION:Namur Expo\, Avenue Sergent Vrithoff 2\, Namur\, Namur\, 5000\, Belgium
END:VEVENT
END:VCALENDAR